{"text_format":"2","workbook":"xlsx","n_sheets":11,"sheets":["评委1","评委2","评委3","评委4","评委5","2","3","4","5","平均分","Sheet1"],"not_rendered":{"charts":0,"images":0,"macros":0,"external_links":0,"defined_names":0,"comments":0,"pivot_tables":0},"unopened":[],"bounds":{"document_bytes":16777216,"sheet_cells":100000,"run_cost":"one","rows_first":2000,"rows_last":500,"rows_between":2000,"halvings":0,"cell_chars":16384,"cell_head_chars":4096},"cells_cut":0,"cells_raw":0,"read":"whole","date_system":"1900"}

{"sheet":"评委1","index":0,"n_rows":27,"n_cols":4,"rows_kept":27,"cut":false,"hidden":false,"merged":[[0,0,0,3],[15,0,15,2],[21,0,21,2],[22,0,22,2],[23,0,23,2],[24,0,24,3],[25,0,25,3],[26,0,26,3],[3,0,6,0],[7,0,10,0],[11,0,14,0],[16,0,20,0]]}
["第六批众创空间专家评审打分表"]
["申报单位\n名称","绿圃（北京）科技控股有限公司","序号",1]
["一级指标","二级指标","分值区间","评委得分"]
["基础条件","可自主支配场地面积不低于500平米，或提供不少于30个创业工位。提供的创业工位和公共服务场地面积不低于众创空间总面积的75%，入驻配套条件完备。","0-10"]
[null,"管理团队专业化分工，部门设置合理，运营管理至少3名专职人员，聘请至少3名专兼职导师","0-5"]
[null,"形成规范化运营管理制度，明确孵化经营考核目标  ","0-5"]
[null,"建立市场化运营机制，已形成稳定收入来源，有一定经济效益","0-10"]
["专业化孵化服务","聚焦某一高精尖产业布局，支撑科创中心建设需求导向","0-10"]
[null,"每年开展的创业沙龙、路演、创业大赛、创业教育培训等活动不少于10 场次。","0-5"]
[null,"专业化服务资源（重点：技术研发/产业资源对接/投融资/创业培训）具备竞争优势","0-10"]
[null,"运营模式具有可持续发展能力，孵化服务体系完整，内涵丰富","0-5"]
["服务入驻企业（团队）效果","年协议入驻创业团队和企业不低于20家。入驻创业团队每年注册成为新企业数不低于10家，或每年有不低于5家获得融资。","0-10"]
[null,"入驻企业（团队）投融资情况","0-10"]
[null,"入驻企业（团队）技术创新综合评价","0-10"]
[null,"入驻企业（团队）市场价值综合评价","0-10"]
["合计分数"]
["品牌服务输出（辅助加分项）","具有专业领域的设备仪器等硬件条件，提供小试、中试服务。","0-5分"]
[null,"服务高校院所科技成果转化效果突出。","0-5分"]
[null,"未来科学城品牌运营","1个场地加2分"]
[null,"怀柔科学城品牌运营","1个场地加2分"]
[null,"品牌运营国外辐射","1个场地加2分"]
["附加分合计分数"]
["总计"]
["是否建议实地考察，进一步核实（建议：1；不建议：0）"]
["专家意见："]
["                                   专家签字："]
["                                   日    期：                                                                                                        "]

{"sheet":"评委2","index":1,"n_rows":27,"n_cols":4,"rows_kept":27,"cut":false,"hidden":false,"merged":[[0,0,0,3],[15,0,15,2],[21,0,21,2],[22,0,22,2],[23,0,23,2],[24,0,24,3],[25,0,25,3],[26,0,26,3],[3,0,6,0],[7,0,10,0],[11,0,14,0],[16,0,20,0]]}
["第六批众创空间专家评审打分表"]
["申报单位名称","绿圃（北京）科技控股有限公司","序号",1]
["一级指标","二级指标","分值区间","评委得分"]
["基础条件","可自主支配场地面积不低于500平米，或提供不少于30个创业工位。提供的创业工位和公共服务场地面积不低于众创空间总面积的75%，入驻配套条件完备。","0-10"]
[null,"管理团队专业化分工，部门设置合理，运营管理至少3名专职人员，聘请至少3名专兼职导师","0-5"]
[null,"形成规范化运营管理制度，明确孵化经营考核目标  ","0-5"]
[null,"建立市场化运营机制，已形成稳定收入来源，有一定经济效益","0-10"]
["专业化孵化服务","聚焦某一高精尖产业布局，支撑科创中心建设需求导向","0-10"]
[null,"每年开展的创业沙龙、路演、创业大赛、创业教育培训等活动不少于10 场次。","0-5"]
[null,"专业化服务资源（重点：技术研发/产业资源对接/投融资/创业培训）具备竞争优势","0-10"]
[null,"运营模式具有可持续发展能力，孵化服务体系完整，内涵丰富","0-5"]
["服务入驻企业（团队）效果","年协议入驻创业团队和企业不低于20家。入驻创业团队每年注册成为新企业数不低于10家，或每年有不低于5家获得融资。","0-10"]
[null,"入驻企业（团队）投融资情况","0-10"]
[null,"入驻企业（团队）技术创新综合评价","0-10"]
[null,"入驻企业（团队）市场价值综合评价","0-10"]
["合计分数"]
["品牌服务输出（辅助加分项）","具有专业领域的设备仪器等硬件条件，提供小试、中试服务。","0-5分"]
[null,"服务高校院所科技成果转化效果突出。","0-5分"]
[null,"未来科学城品牌运营","1个场地加2分"]
[null,"怀柔科学城品牌运营","1个场地加2分"]
[null,"品牌运营国外辐射","1个场地加2分"]
["附加分合计分数"]
["总计"]
["是否建议实地考察，进一步核实（建议：1；不建议：0）"]
["专家意见："]
["                                   专家签字："]
["                                   日    期：                                                                                                        "]

{"sheet":"评委3","index":2,"n_rows":27,"n_cols":4,"rows_kept":27,"cut":false,"hidden":false,"merged":[[0,0,0,3],[15,0,15,2],[21,0,21,2],[22,0,22,2],[23,0,23,2],[24,0,24,3],[25,0,25,3],[26,0,26,3],[3,0,6,0],[7,0,10,0],[11,0,14,0],[16,0,20,0]]}
["第六批众创空间专家评审打分表"]
["申报单位名称","绿圃（北京）科技控股有限公司","序号",1]
["一级指标","二级指标","分值区间","评委得分"]
["基础条件","可自主支配场地面积不低于500平米，或提供不少于30个创业工位。提供的创业工位和公共服务场地面积不低于众创空间总面积的75%，入驻配套条件完备。","0-10"]
[null,"管理团队专业化分工，部门设置合理，运营管理至少3名专职人员，聘请至少3名专兼职导师","0-5"]
[null,"形成规范化运营管理制度，明确孵化经营考核目标  ","0-5"]
[null,"建立市场化运营机制，已形成稳定收入来源，有一定经济效益","0-10"]
["专业化孵化服务","聚焦某一高精尖产业布局，支撑科创中心建设需求导向","0-10"]
[null,"每年开展的创业沙龙、路演、创业大赛、创业教育培训等活动不少于10 场次。","0-5"]
[null,"专业化服务资源（重点：技术研发/产业资源对接/投融资/创业培训）具备竞争优势","0-10"]
[null,"运营模式具有可持续发展能力，孵化服务体系完整，内涵丰富","0-5"]
["服务入驻企业（团队）效果","年协议入驻创业团队和企业不低于20家。入驻创业团队每年注册成为新企业数不低于10家，或每年有不低于5家获得融资。","0-10"]
[null,"入驻企业（团队）投融资情况","0-10"]
[null,"入驻企业（团队）技术创新综合评价","0-10"]
[null,"入驻企业（团队）市场价值综合评价","0-10"]
["合计分数"]
["品牌服务输出（辅助加分项）","具有专业领域的设备仪器等硬件条件，提供小试、中试服务。","0-5分"]
[null,"服务高校院所科技成果转化效果突出。","0-5分"]
[null,"未来科学城品牌运营","1个场地加2分"]
[null,"怀柔科学城品牌运营","1个场地加2分"]
[null,"品牌运营国外辐射","1个场地加2分"]
["附加分合计分数"]
["总计"]
["是否建议实地考察，进一步核实（建议：1；不建议：0）"]
["专家意见："]
["                                   专家签字："]
["                                   日    期：                                                                                                        "]

{"sheet":"评委4","index":3,"n_rows":27,"n_cols":4,"rows_kept":27,"cut":false,"hidden":false,"merged":[[0,0,0,3],[15,0,15,2],[21,0,21,2],[22,0,22,2],[23,0,23,2],[24,0,24,3],[25,0,25,3],[26,0,26,3],[3,0,6,0],[7,0,10,0],[11,0,14,0],[16,0,20,0]]}
["第六批众创空间专家评审打分表"]
["申报单位名称","绿圃（北京）科技控股有限公司","序号",1]
["一级指标","二级指标","分值区间","评委得分"]
["基础条件","可自主支配场地面积不低于500平米，或提供不少于30个创业工位。提供的创业工位和公共服务场地面积不低于众创空间总面积的75%，入驻配套条件完备。","0-10"]
[null,"管理团队专业化分工，部门设置合理，运营管理至少3名专职人员，聘请至少3名专兼职导师","0-5"]
[null,"形成规范化运营管理制度，明确孵化经营考核目标  ","0-5"]
[null,"建立市场化运营机制，已形成稳定收入来源，有一定经济效益","0-10"]
["专业化孵化服务","聚焦某一高精尖产业布局，支撑科创中心建设需求导向","0-10"]
[null,"每年开展的创业沙龙、路演、创业大赛、创业教育培训等活动不少于10 场次。","0-5"]
[null,"专业化服务资源（重点：技术研发/产业资源对接/投融资/创业培训）具备竞争优势","0-10"]
[null,"运营模式具有可持续发展能力，孵化服务体系完整，内涵丰富","0-5"]
["服务入驻企业（团队）效果","年协议入驻创业团队和企业不低于20家。入驻创业团队每年注册成为新企业数不低于10家，或每年有不低于5家获得融资。","0-10"]
[null,"入驻企业（团队）投融资情况","0-10"]
[null,"入驻企业（团队）技术创新综合评价","0-10"]
[null,"入驻企业（团队）市场价值综合评价","0-10"]
["合计分数"]
["品牌服务输出（辅助加分项）","具有专业领域的设备仪器等硬件条件，提供小试、中试服务。","0-5分"]
[null,"服务高校院所科技成果转化效果突出。","0-5分"]
[null,"未来科学城品牌运营","1个场地加2分"]
[null,"怀柔科学城品牌运营","1个场地加2分"]
[null,"品牌运营国外辐射","1个场地加2分"]
["附加分合计分数"]
["总计"]
["是否建议实地考察，进一步核实（建议：1；不建议：0）"]
["专家意见："]
["                                   专家签字："]
["                                   日    期：                                                                                                        "]

{"sheet":"评委5","index":4,"n_rows":27,"n_cols":4,"rows_kept":27,"cut":false,"hidden":false,"merged":[[0,0,0,3],[15,0,15,2],[21,0,21,2],[22,0,22,2],[23,0,23,2],[24,0,24,3],[25,0,25,3],[26,0,26,3],[3,0,6,0],[7,0,10,0],[11,0,14,0],[16,0,20,0]]}
["第六批众创空间专家评审打分表"]
["申报单位名称","绿圃（北京）科技控股有限公司","序号",1]
["一级指标","二级指标","分值区间","评委得分"]
["基础条件","可自主支配场地面积不低于500平米，或提供不少于30个创业工位。提供的创业工位和公共服务场地面积不低于众创空间总面积的75%，入驻配套条件完备。","0-10"]
[null,"管理团队专业化分工，部门设置合理，运营管理至少3名专职人员，聘请至少3名专兼职导师","0-5"]
[null,"形成规范化运营管理制度，明确孵化经营考核目标  ","0-5"]
[null,"建立市场化运营机制，已形成稳定收入来源，有一定经济效益","0-10"]
["专业化孵化服务","聚焦某一高精尖产业布局，支撑科创中心建设需求导向","0-10"]
[null,"每年开展的创业沙龙、路演、创业大赛、创业教育培训等活动不少于10 场次。","0-5"]
[null,"专业化服务资源（重点：技术研发/产业资源对接/投融资/创业培训）具备竞争优势","0-10"]
[null,"运营模式具有可持续发展能力，孵化服务体系完整，内涵丰富","0-5"]
["服务入驻企业（团队）效果","年协议入驻创业团队和企业不低于20家。入驻创业团队每年注册成为新企业数不低于10家，或每年有不低于5家获得融资。","0-10"]
[null,"入驻企业（团队）投融资情况","0-10"]
[null,"入驻企业（团队）技术创新综合评价","0-10"]
[null,"入驻企业（团队）市场价值综合评价","0-10"]
["合计分数"]
["品牌服务输出（辅助加分项）","具有专业领域的设备仪器等硬件条件，提供小试、中试服务。","0-5分"]
[null,"服务高校院所科技成果转化效果突出。","0-5分"]
[null,"未来科学城品牌运营","1个场地加2分"]
[null,"怀柔科学城品牌运营","1个场地加2分"]
[null,"品牌运营国外辐射","1个场地加2分"]
["附加分合计分数"]
["总计"]
["是否建议实地考察，进一步核实（建议：1；不建议：0）"]
["专家意见："]
["                                   专家签字："]
["                                   日    期：                                                                                                        "]

{"sheet":"2","index":5,"n_rows":22,"n_cols":4,"rows_kept":22,"cut":false,"hidden":true,"merged":[[0,0,0,3],[13,0,13,2],[17,0,17,2],[18,0,18,2],[19,0,19,3],[20,0,20,3],[21,0,21,3],[3,0,6,0],[7,0,8,0],[9,0,12,0],[14,0,16,0]]}
["第五批众创空间专家评审打分表（评委6）"]
["申报单位名称","绿圃（北京）科技控股有限公司","序号",1]
["一级指标","二级指标","分值区间","评委得分"]
["基础条件（25-35分）","可自主支配场地面积不低于500平米，或提供集中办公区创业工位不少于30个（上述两个指标二选一，每增加1倍加2分）","10-20（3000平米或180个工位为上限）"]
[null,"运营管理团队至少3名专职人员",5]
[null,"聘请至少3名专兼职导师",5]
[null,"形成规范化运营管理制度     ",5]
["专业化科技服务能力（25分）","明确重点孵化专业技术领域","0-10"]
[null,"汇聚专业化科技服务资源","0-15"]
["入驻项目科技含量（20-40分）","已入驻的初创型科技类企业（团队）需达20家以上","20-25"]
[null,"入驻企业（团队）技术创新综合评价","0-5"]
[null,"入驻企业（团队）市场价值综合评价","0-5"]
[null,"带动就业贡献力综合评价","0-5"]
["合计分数",null,null,{"$f":"SUM(D4:D13)","v":0}]
["品牌服务输出（辅助加分项）","未来科学城品牌运营（特指核心区，1个场地积5分）",5]
[null,"怀柔科学城品牌运营（1个场地积5分）",5]
[null,"具备服务企业案例",5]
["附加分合计分数",null,null,{"$f":"SUM(D15:D17)","v":0}]
["是否建议实地考察，并进一步核实（建议：1；不建议：0）"]
["专家意见："]
["                                   专家签字："]
["                                   日    期：                                                                                                        "]

{"sheet":"3","index":6,"n_rows":22,"n_cols":4,"rows_kept":22,"cut":false,"hidden":true,"merged":[[0,0,0,3],[13,0,13,2],[17,0,17,2],[18,0,18,2],[19,0,19,3],[20,0,20,3],[21,0,21,3],[3,0,6,0],[7,0,8,0],[9,0,12,0],[14,0,16,0]]}
["第五批众创空间专家评审打分表（评委7）"]
["申报单位名称","绿圃（北京）科技控股有限公司","序号",1]
["一级指标","二级指标","分值区间","评委得分"]
["基础条件（25-35分）","可自主支配场地面积不低于500平米，或提供集中办公区创业工位不少于30个（上述两个指标二选一，每增加1倍加2分）","10-20（3000平米或180个工位为上限）"]
[null,"运营管理团队至少3名专职人员",5]
[null,"聘请至少3名专兼职导师",5]
[null,"形成规范化运营管理制度     ",5]
["专业化科技服务能力（25分）","明确重点孵化专业技术领域","0-10"]
[null,"汇聚专业化科技服务资源","0-15"]
["入驻项目科技含量（20-40分）","已入驻的初创型科技类企业（团队）需达20家以上","20-25"]
[null,"入驻企业（团队）技术创新综合评价","0-5"]
[null,"入驻企业（团队）市场价值综合评价","0-5"]
[null,"带动就业贡献力综合评价","0-5"]
["合计分数",null,null,{"$f":"SUM(D4:D13)","v":0}]
["品牌服务输出（辅助加分项）","未来科学城品牌运营（特指核心区，1个场地积5分）",5]
[null,"怀柔科学城品牌运营（1个场地积5分）",5]
[null,"具备服务企业案例",5]
["附加分合计分数",null,null,{"$f":"SUM(D15:D17)","v":0}]
["是否建议实地考察，并进一步核实（建议：1；不建议：0）"]
["专家意见："]
["                                   专家签字："]
["                                   日    期：                                                                                                        "]

{"sheet":"4","index":7,"n_rows":22,"n_cols":4,"rows_kept":22,"cut":false,"hidden":true,"merged":[[0,0,0,3],[13,0,13,2],[17,0,17,2],[18,0,18,2],[19,0,19,3],[20,0,20,3],[21,0,21,3],[3,0,6,0],[7,0,8,0],[9,0,12,0],[14,0,16,0]]}
["第五批众创空间专家评审打分表"]
["申报单位名称",null,"序号"]
["一级指标","二级指标","分值区间","评委得分"]
["基础条件（25-35分）","可自主支配场地面积不低于500平米，或提供集中办公区创业工位不少于30个（上述两个指标二选一，每增加1倍加2分）","10-20（3000平米或180个工位为上限）"]
[null,"运营管理团队至少3名专职人员",5]
[null,"聘请至少3名专兼职导师",5]
[null,"形成规范化运营管理制度     ",5]
["专业化科技服务能力（25分）","明确重点孵化专业技术领域","0-10"]
[null,"汇聚专业化科技服务资源","0-15"]
["入驻项目科技含量（20-40分）","已入驻的初创型科技类企业（团队）需达20家以上","20-25"]
[null,"入驻企业（团队）技术创新综合评价","0-5"]
[null,"入驻企业（团队）市场价值综合评价","0-5"]
[null,"带动就业贡献力综合评价","0-5"]
["合计分数",null,null,{"$f":"SUM(D4:D13)","v":0}]
["品牌服务输出（辅助加分项）","未来科学城品牌运营（特指核心区，1个场地积5分）",5]
[null,"怀柔科学城品牌运营（1个场地积5分）",5]
[null,"具备服务企业案例",5]
["附加分合计分数",null,null,{"$f":"SUM(D15:D17)","v":0}]
["是否建议实地考察，并进一步核实（建议：1；不建议：0）"]
["专家意见："]
["                                   专家签字："]
["                                   日    期：                                                                                                        "]

{"sheet":"5","index":8,"n_rows":22,"n_cols":4,"rows_kept":22,"cut":false,"hidden":true,"merged":[[0,0,0,3],[13,0,13,2],[17,0,17,2],[18,0,18,2],[19,0,19,3],[20,0,20,3],[21,0,21,3],[3,0,6,0],[7,0,8,0],[9,0,12,0],[14,0,16,0]]}
["第五批众创空间专家评审打分表"]
["申报单位名称",null,"序号"]
["一级指标","二级指标","分值区间","评委得分"]
["基础条件（25-35分）","可自主支配场地面积不低于500平米，或提供集中办公区创业工位不少于30个（上述两个指标二选一，每增加1倍加2分）","10-20（3000平米或180个工位为上限）"]
[null,"运营管理团队至少3名专职人员",5]
[null,"聘请至少3名专兼职导师",5]
[null,"形成规范化运营管理制度     ",5]
["专业化科技服务能力（25分）","明确重点孵化专业技术领域","0-10"]
[null,"汇聚专业化科技服务资源","0-15"]
["入驻项目科技含量（20-40分）","已入驻的初创型科技类企业（团队）需达20家以上","20-25"]
[null,"入驻企业（团队）技术创新综合评价","0-5"]
[null,"入驻企业（团队）市场价值综合评价","0-5"]
[null,"带动就业贡献力综合评价","0-5"]
["合计分数",null,null,{"$f":"SUM(D4:D13)","v":0}]
["品牌服务输出（辅助加分项）","未来科学城品牌运营（特指核心区，1个场地积5分）",5]
[null,"怀柔科学城品牌运营（1个场地积5分）",5]
[null,"具备服务企业案例",5]
["附加分合计分数",null,null,{"$f":"SUM(D15:D17)","v":0}]
["是否建议实地考察，并进一步核实（建议：1；不建议：0）"]
["专家意见："]
["                                   专家签字："]
["                                   日    期：                                                                                                        "]

{"sheet":"平均分","index":9,"n_rows":23,"n_cols":11,"rows_kept":23,"cut":false,"hidden":true,"merged":[[0,0,0,3],[13,0,13,2],[17,0,17,2],[18,0,18,2],[19,0,19,2],[20,0,20,3],[21,0,21,3],[22,0,22,3],[3,0,6,0],[7,0,8,0],[9,0,12,0],[14,0,16,0]]}
["第五批众创空间专家评分汇总表"]
["申报单位名称",{"$f":"评委1!B2","v":"绿圃（北京）科技控股有限公司"},"序号",{"$f":"评委1!D2","v":1}]
["一级指标","二级指标","分值区间","评委得分",null,null,"评委1","评委2","评委3","评委4","评委5"]
["基础条件（25-35分）","可自主支配场地面积不低于500平米，或提供集中办公区创业工位不少于30个（上述两个指标二选一，每增加1倍加2分）","10-20（3000平米或180个工位为上限）",{"$f":"AVERAGE(G4:K4)","v":0},null,null,{"$f":"评委1!D4","v":0},{"$f":"'2'!D4","v":0},{"$f":"'3'!D4","v":0},{"$f":"'4'!D4","v":0},{"$f":"'5'!D4","v":0}]
[null,"运营管理团队至少3名专职人员",5,0,null,null,{"$f":"评委1!D5","v":0},{"$f":"'2'!D5","v":0},{"$f":"'3'!D5","v":0},{"$f":"'4'!D5","v":0},{"$f":"'5'!D5","v":0}]
[null,"聘请至少3名专兼职导师",5,0,null,null,{"$f":"评委1!D6","v":0},{"$f":"'2'!D6","v":0},{"$f":"'3'!D6","v":0},{"$f":"'4'!D6","v":0},{"$f":"'5'!D6","v":0}]
[null,"形成规范化运营管理制度     ",5,0,null,null,{"$f":"评委1!D7","v":0},{"$f":"'2'!D7","v":0},{"$f":"'3'!D7","v":0},{"$f":"'4'!D7","v":0},{"$f":"'5'!D7","v":0}]
["专业化科技服务能力（25分）","明确重点孵化专业技术领域","0-10",0,null,null,{"$f":"评委1!D8","v":0},{"$f":"'2'!D8","v":0},{"$f":"'3'!D8","v":0},{"$f":"'4'!D8","v":0},{"$f":"'5'!D8","v":0}]
[null,"汇聚专业化科技服务资源","0-15",0,null,null,{"$f":"评委1!D11","v":0},{"$f":"'2'!D9","v":0},{"$f":"'3'!D9","v":0},{"$f":"'4'!D9","v":0},{"$f":"'5'!D9","v":0}]
["入驻项目科技含量（20-40分）","已入驻的初创型科技类企业（团队）需达20家以上","20-25",{"$error":"#REF!"},null,null,{"$f":"评委1!#REF!","v":{"$error":"#REF!"}},{"$f":"'2'!D10","v":0},{"$f":"'3'!D10","v":0},{"$f":"'4'!D10","v":0},{"$f":"'5'!D10","v":0}]
[null,"入驻企业（团队）技术创新综合评价","0-5",0,null,null,{"$f":"评委1!D14","v":0},{"$f":"'2'!D11","v":0},{"$f":"'3'!D11","v":0},{"$f":"'4'!D11","v":0},{"$f":"'5'!D11","v":0}]
[null,"入驻企业（团队）市场价值综合评价","0-5",0,null,null,{"$f":"评委1!D15","v":0},{"$f":"'2'!D12","v":0},{"$f":"'3'!D12","v":0},{"$f":"'4'!D12","v":0},{"$f":"'5'!D12","v":0}]
[null,"带动就业贡献力综合评价","0-5",{"$error":"#REF!"},null,null,{"$f":"评委1!#REF!","v":{"$error":"#REF!"}},{"$f":"'2'!D13","v":0},{"$f":"'3'!D13","v":0},{"$f":"'4'!D13","v":0},{"$f":"'5'!D13","v":0}]
["合计分数",null,null,0,null,null,{"$f":"评委1!D16","v":0},{"$f":"'2'!D14","v":0},{"$f":"'3'!D14","v":0},{"$f":"'4'!D14","v":0},{"$f":"'5'!D14","v":0}]
["品牌服务输出（辅助加分项）","未来科学城品牌运营（特指核心区，1个场地积5分）",5,0,null,null,{"$f":"评委1!D19","v":0},{"$f":"'2'!D15","v":0},{"$f":"'3'!D15","v":0},{"$f":"'4'!D15","v":0},{"$f":"'5'!D15","v":0}]
[null,"怀柔科学城品牌运营（1个场地积5分）",5,0,null,null,{"$f":"评委1!D20","v":0},{"$f":"'2'!D16","v":0},{"$f":"'3'!D16","v":0},{"$f":"'4'!D16","v":0},{"$f":"'5'!D16","v":0}]
[null,"具备服务企业案例",5,0,null,null,{"$f":"评委1!D21","v":0},{"$f":"'2'!D17","v":0},{"$f":"'3'!D17","v":0},{"$f":"'4'!D17","v":0},{"$f":"'5'!D17","v":0}]
["附加分合计分数",null,null,0,null,null,{"$f":"评委1!D22","v":0},{"$f":"'2'!D18","v":0},{"$f":"'3'!D18","v":0},{"$f":"'4'!D18","v":0},{"$f":"'5'!D18","v":0}]
["是否建议实地考察，并进一步核实",null,null,{"$f":"SUM(G15:K15)","v":0},null,null,{"$f":"评委1!D23","v":0},{"$f":"'2'!D19","v":0},{"$f":"'3'!D19","v":0},{"$f":"'4'!D19","v":0},{"$f":"'5'!D19","v":0}]
["总分",null,null,{"$f":"D18+D14","v":0}]
["实地考察专家意见（主要从以下维度定性评价：1、现场是否具备科技孵化开放共享氛围；2、空间布局是否体现专业技术领域服务特色；3、空间当前入驻规模是否达75%以上；4、与入驻企业互联互通；5、现场答辩分数是否与实地考察相符；6、其他意见）："]
["专家签字：   "]
["日    期：                                                                                                        "]

{"sheet":"Sheet1","index":10,"n_rows":0,"n_cols":0,"rows_kept":0,"cut":false,"hidden":true,"merged":[]}